BEGIN:VCALENDAR
VERSION:2.0
PRODID:-//wp-events-plugin.com//7.1.7//EN
TZID:Europe/Paris
X-WR-TIMEZONE:Europe/Paris
BEGIN:VEVENT
UID:0-688@cuers.fr
DTSTART;TZID=Europe/Paris:20260429T100000
DTEND;TZID=Europe/Paris:20260429T113000
DTSTAMP:20260414T080624Z
URL:https://www.cuers.fr/evenements/atelier-parents-enfants-collage-de-car
 naval-mercredi-18-mars-2026/
SUMMARY:Atelier Parents &amp\; Enfants: une matinée sensorielle
DESCRIPTION:Un moment unique à partager en famille\nLe mercredi 29 avril 2
 026\, le Service Petite Enfance de la Ville de Cuers propose un atelier sp
 écialement conçu pour les jeunes enfants et leurs parents : un atelier d
 ’éveil sensoriel placé sous le signe de la découverte\, du jeu et du 
 partage.\nOrganisé à l’école municipale « Marcel Pagnol »\, cet év
 énement est une belle opportunité pour les familles de vivre un moment p
 rivilégié ensemble\, tout en stimulant les sens des tout-petits.\nInform
 ations pratiques – Atelier Éveil sensoriel à Cuers\n📅 Mercredi 29 a
 vril 2026\n⏰ De 10h à 11h30\n📍 École Marcel Pagnol – Cuers\n👶 
 Enfants de 14 mois à 4 ans\nInscriptions et renseignements\nLes inscripti
 ons sont ouvertes auprès du Service Petite Enfance de la Ville de Cuers :
 \n📞 Madame Élodie Cossalter 📱 04 94 33 11 29. 📧 ecossalter@cuers
 .fr
ATTACH;FMTTYPE=image/jpeg:https://www.cuers.fr/app/uploads/2026/03/Atelier
 -parent-enfant-29-avril-2026_Plan-de-travail-1-1-scaled-e1776150597650.jpg
CATEGORIES:Ateliers
LOCATION:École Maternelle Marcel Pagnol\, Place Jessy Beugin 83390 Cuers\,
  France
X-APPLE-STRUCTURED-LOCATION;VALUE=URI;X-ADDRESS=Place Jessy Beugin 83390 Cu
 ers\, France;X-APPLE-RADIUS=100;X-TITLE=École Maternelle Marcel Pagnol:ge
 o:0,0
END:VEVENT
BEGIN:VTIMEZONE
TZID:Europe/Paris
X-LIC-LOCATION:Europe/Paris
BEGIN:DAYLIGHT
DTSTART:20260329T030000
TZOFFSETFROM:+0100
TZOFFSETTO:+0200
TZNAME:CEST
END:DAYLIGHT
END:VTIMEZONE
END:VCALENDAR