BEGIN:VCALENDAR
VERSION:2.0
PRODID:-//wp-events-plugin.com//7.1.7//EN
TZID:Europe/Paris
X-WR-TIMEZONE:Europe/Paris
BEGIN:VEVENT
UID:0-710@cuers.fr
DTSTART;TZID=Europe/Paris:20260501T093000
DTEND;TZID=Europe/Paris:20260501T133000
DTSTAMP:20260424T083542Z
URL:https://www.cuers.fr/evenements/cuers-engagee-pour-le-don-dorganes-un-
 grand-prix-cycliste-au-service-de-la-vie/
SUMMARY:Cuers engagée pour le don d’organes : un Grand Prix Cycliste au 
 service de la vie
DESCRIPTION:Le vendredi 1er mai 2026\, la Ville de Cuers accueillera un év
 énement à la fois sportif\, solidaire et profondément humain : le Grand
  Prix Cycliste de la Ville de Cuers.\nOrganisée en partenariat avec le Va
 lcros Team Cycliste Don d’Organes\, cette course s’inscrit dans une d
 émarche forte portée par la commune\, première ville ambassadrice du do
 n d’organes dans le Var.\nUn événement sportif au cœur d’une cause 
 essentielle\nAu-delà de la compétition\, ce Grand Prix incarne un engage
 ment concret : sensibiliser au don d’organes et soutenir la recherche m
 édicale.\nLes fonds récoltés lors de cette manifestation seront revers
 és à l’Association pour la Recherche Clinique et Expérimentale en Chi
 rurgie\, une structure impliquée dans la recherche scientifique liée not
 amment à la transplantation et aux avancées chirurgicales.\nCette mobili
 sation permet de transformer un événement sportif en un véritable levie
 r d’action pour faire progresser la médecine et sauver des vies.\nLe sp
 ort comme vecteur de solidarité\nLe cyclisme\, discipline exigeante et po
 pulaire\, devient ici un puissant outil de sensibilisation.\nSur un circui
 t fermé de 3\,9 km\, les coureurs offriront un spectacle dynamique et acc
 essible à tous. Habitants\, familles\, passionnés de sport ou simples cu
 rieux sont invités à venir encourager les participants dans une ambiance
  conviviale.\nCet événement est aussi l’occasion de rappeler l’impor
 tance du don d’organes\, un geste citoyen qui peut changer\, voire sauve
 r\, de nombreuses vies.\nUne matinée conviviale et ouverte à tous\nEn pl
 us de la course\, plusieurs éléments viendront enrichir cette matinée :
 \nUn espace de restauration sur place\nUne ambiance familiale et chaleureu
 se\nDes échanges autour de la sensibilisation au don d’organes\nL’obj
 ectif : réunir le plus grand nombre autour d’une cause commune\, dans u
 n cadre accessible et fédérateur.\nInformations pratiques\n📅 Vendredi
  1er mai 2026🕘 De 9h30 à 13h30📍 Départ : Vélo2max (ZAE des Bousqu
 ets)\nCirculation et stationnement\nStationnement interdit avenue des Bous
 quets (entre MACAP et ARARD) du 30 avril à 17h30 au 1er mai à 14h30 Circ
 ulation fermée le 1er mai de 9h00 à 13h30 Accès maintenu uniquement dan
 s le sens de la course sur le reste du parcours
ATTACH;FMTTYPE=image/jpeg:https://www.cuers.fr/app/uploads/2026/04/Affiche
 _GP_Cycliste_2026-1-scaled-e1777019603613.jpg
CATEGORIES:Evènement associatif,Solidarité,Sport
END:VEVENT
BEGIN:VTIMEZONE
TZID:Europe/Paris
X-LIC-LOCATION:Europe/Paris
BEGIN:DAYLIGHT
DTSTART:20260329T030000
TZOFFSETFROM:+0100
TZOFFSETTO:+0200
TZNAME:CEST
END:DAYLIGHT
END:VTIMEZONE
END:VCALENDAR